BEGIN:VCALENDAR
VERSION:2.0
PRODID:-//Rhein-Rock e.V. - ECPv6.15.19//NONSGML v1.0//EN
CALSCALE:GREGORIAN
METHOD:PUBLISH
X-WR-CALNAME:Rhein-Rock e.V.
X-ORIGINAL-URL:https://www.rhein-rock.de
X-WR-CALDESC:Veranstaltungen für Rhein-Rock e.V.
REFRESH-INTERVAL;VALUE=DURATION:PT1H
X-Robots-Tag:noindex
X-PUBLISHED-TTL:PT1H
BEGIN:VTIMEZONE
TZID:Europe/Paris
BEGIN:DAYLIGHT
TZOFFSETFROM:+0100
TZOFFSETTO:+0200
TZNAME:CEST
DTSTART:20250330T010000
END:DAYLIGHT
BEGIN:STANDARD
TZOFFSETFROM:+0200
TZOFFSETTO:+0100
TZNAME:CET
DTSTART:20251026T010000
END:STANDARD
BEGIN:DAYLIGHT
TZOFFSETFROM:+0100
TZOFFSETTO:+0200
TZNAME:CEST
DTSTART:20260329T010000
END:DAYLIGHT
BEGIN:STANDARD
TZOFFSETFROM:+0200
TZOFFSETTO:+0100
TZNAME:CET
DTSTART:20261025T010000
END:STANDARD
BEGIN:DAYLIGHT
TZOFFSETFROM:+0100
TZOFFSETTO:+0200
TZNAME:CEST
DTSTART:20270328T010000
END:DAYLIGHT
BEGIN:STANDARD
TZOFFSETFROM:+0200
TZOFFSETTO:+0100
TZNAME:CET
DTSTART:20271031T010000
END:STANDARD
END:VTIMEZONE
BEGIN:VEVENT
DTSTART;TZID=Europe/Paris:20260220T193000
DTEND;TZID=Europe/Paris:20260221T010000
DTSTAMP:20260422T001914
CREATED:20260129T154456Z
LAST-MODIFIED:20260129T154456Z
UID:7835-1771615800-1771635600@www.rhein-rock.de
SUMMARY:Kneipenabend
DESCRIPTION:Es ist wieder Zeit für einen Kneipenabend!\n  \nWir laden ein bis zwei Singer- Songwriter ein\, die durch den Abend führen.\nWer möchte darf sich beim Open Mic gerne ebenfalls musikalisch betätigen!\nKaraoke ist auch wieder am Start.\n\n  \nDer Eintritt ist frei.\n \n \nFür die Künstler*innen gibt es einen Spenden-Hut.
URL:https://www.rhein-rock.de/events/kneipenabend200226/
LOCATION:Sojus 7\, Kapellenstraße 38\, Monheim am Rhein\, 40789
END:VEVENT
END:VCALENDAR